BEGIN:VCALENDAR
VERSION:2.0
PRODID:-//SportPlan//Event Calendar//EN
CALSCALE:GREGORIAN
BEGIN:VEVENT
UID:9aca3688-e72c-42e4-a307-63985ac920e5@sportplan.local
DTSTAMP:20260424T230205Z
DTSTART;VALUE=DATE:20260603
DTEND;VALUE=DATE:20260604
SUMMARY:Maratona do Rio 2026
DESCRIPTION:Official Maratona do Rio homepage for the 2026 festival in Rio de Janeiro. The organizer site confirms the 3-7 June 2026 event window\, calls it the largest road-running festival in Latin America\, and links the official public registration flow.
LOCATION:Rio de Janeiro\, Brazil
URL:https://sportplan.vercel.app/no/events/maratona-do-rio-2026-2026-06-03
END:VEVENT
END:VCALENDAR
