BEGIN:VCALENDAR
VERSION:2.0
PRODID:-//SportPlan//Event Calendar//EN
CALSCALE:GREGORIAN
BEGIN:VEVENT
UID:57541de0-f343-42a2-938a-0c196b6bf68b@sportplan.local
DTSTAMP:20260425T023155Z
DTSTART;VALUE=DATE:20260620
DTEND;VALUE=DATE:20260621
SUMMARY:คลินิกรักวิ่ง รัน - LOVE RUN 2026
DESCRIPTION:Official Thai.Run registration page for LOVE RUN 2026 in Chon Buri.
LOCATION:Chon Buri\, Chon Buri
URL:https://sportplan.vercel.app/no/events/love-run-2026-chon-buri-2026-06-20
END:VEVENT
END:VCALENDAR
