BEGIN:VCALENDAR
VERSION:2.0
PRODID:-//SportPlan//Event Calendar//EN
CALSCALE:GREGORIAN
BEGIN:VEVENT
UID:421a4c17-fd74-4bde-9295-dd89932d64a2@sportplan.local
DTSTAMP:20260424T230215Z
DTSTART;VALUE=DATE:20260425
DTEND;VALUE=DATE:20260427
SUMMARY:Le Radicatrail
DESCRIPTION:Le Radicatrail est une course nature entre Tancarville et Lillebonne en Normandie\, avec son programme 2026 publié sur le site officiel de l'événement.
LOCATION:Lillebonne
URL:https://sportplan.vercel.app/no/events/le-radicatrail-lillebonne-2026-04-25
END:VEVENT
END:VCALENDAR
