BEGIN:VCALENDAR
VERSION:2.0
PRODID:-//SportPlan//Event Calendar//EN
CALSCALE:GREGORIAN
BEGIN:VEVENT
UID:9b859972-bfd3-4609-ad25-187bf67fb30a@sportplan.local
DTSTAMP:20260424T230542Z
DTSTART;VALUE=DATE:20260425
DTEND;VALUE=DATE:20260428
SUMMARY:La Turonia
DESCRIPTION:La Turonia a lieu à Montlouis-sur-Loire le 25 avril 2026. C’est un rendez-vous parfait pour profiter d’une belle journée de course\, avec un parcours de 43 km\, idéal autant pour viser un chrono que pour profiter de l’ambiance locale. Que vous visiez la performance ou une expérience plus conviviale\, l’événement promet une ambiance motivante du début à la fin.
LOCATION:Montlouis-sur-Loire
URL:https://sportplan.vercel.app/no/events/la-turonia-montlouis-sur-loire-2026-04-25
END:VEVENT
END:VCALENDAR
