BEGIN:VCALENDAR
VERSION:2.0
PRODID:-//SportPlan//Event Calendar//EN
CALSCALE:GREGORIAN
BEGIN:VEVENT
UID:680b5466-6507-42d8-9661-43ecea9865d7@sportplan.local
DTSTAMP:20260424T230827Z
DTSTART;VALUE=DATE:20260425
DTEND;VALUE=DATE:20260426
SUMMARY:La Tournée de Vineuil
DESCRIPTION:La Tournée de Vineuil a lieu le 25 de avril de 2026 à Vineuil. C'est un rendez-vous intéressant pour les participants à la recherche d'un événement bien organisé dans un cadre agréable. Le parcours couvre environ 20 km. Consultez les informations officielles de l'organisateur pour les horaires\, le retrait des dossards et les détails logistiques.
LOCATION:Vineuil
URL:https://sportplan.vercel.app/no/events/la-tournee-de-vineuil-vineuil-2026-04-25
END:VEVENT
END:VCALENDAR
