BEGIN:VCALENDAR
VERSION:2.0
PRODID:-//SportPlan//Event Calendar//EN
CALSCALE:GREGORIAN
BEGIN:VEVENT
UID:7740fcad-5b7f-4bd9-93b3-a8dbe6efd3fb@sportplan.local
DTSTAMP:20260425T003431Z
DTSTART;VALUE=DATE:20261004
DTEND;VALUE=DATE:20261005
SUMMARY:Košice International Peace Marathon
DESCRIPTION:World's Marathons direct event page\; one of Europe's oldest marathons\, annual October event in Košice
LOCATION:Košice\, Slovakia
URL:https://sportplan.vercel.app/no/events/kosice-international-peace-marathon-2026-10-04
END:VEVENT
END:VCALENDAR
