BEGIN:VCALENDAR
VERSION:2.0
PRODID:-//SportPlan//Event Calendar//EN
CALSCALE:GREGORIAN
BEGIN:VEVENT
UID:6d730867-364a-411a-80d1-7cfec70591a6@sportplan.local
DTSTAMP:20260424T201731Z
DTSTART;VALUE=DATE:20260424
DTEND;VALUE=DATE:20260427
SUMMARY:Kailas Penang Skyrace 2026
DESCRIPTION:Kailas Penang Skyrace 2026 is listed on the official MMTF event page for 24-26 April 2026 in Georgetown\, Penang. The official schedule places race activities at Youth Park and presents this as an amateur-enterable skyrunning weekend.
LOCATION:Youth Park\, Georgetown\, Penang\, Malaysia
URL:https://sportplan.vercel.app/no/events/kailas-penang-skyrace-2026-georgetown-2026-04-24
END:VEVENT
END:VCALENDAR
