BEGIN:VCALENDAR
VERSION:2.0
PRODID:-//SportPlan//Event Calendar//EN
CALSCALE:GREGORIAN
BEGIN:VEVENT
UID:da08bd39-0595-4dfa-9dbf-cbafc69a631d@sportplan.local
DTSTAMP:20260425T023315Z
DTSTART;VALUE=DATE:20261129
DTEND;VALUE=DATE:20261130
SUMMARY:Ironman Thailand Phuket 2026
DESCRIPTION:Ironman Thailand Phuket 2026 is scheduled for November 29\, 2026 at Phuket\, Phuket. It is a solid option for people who want to experience the event live and plan their day in advance. The listed venue is about 226 km away\, so it helps to check access\, timing\, and on-site amenities before heading out.
LOCATION:Phuket\, Phuket
URL:https://sportplan.vercel.app/no/events/ironman-thailand-phuket-2026-phuket-2026-11-29
END:VEVENT
END:VCALENDAR
