BEGIN:VCALENDAR
VERSION:2.0
PRODID:-//SportPlan//Event Calendar//EN
CALSCALE:GREGORIAN
BEGIN:VEVENT
UID:de53489a-151b-4505-b662-63fc3b331882@sportplan.local
DTSTAMP:20260425T003307Z
DTSTART;VALUE=DATE:20260607
DTEND;VALUE=DATE:20260608
SUMMARY:IRONMAN 70.3 Warsaw
DESCRIPTION:Experience Enea IRONMAN 70.3 Warsaw's flat\, fast course: swim in Lake Zegrzyński\, bike past iconic landmarks\, and run through the historic city center.
LOCATION:Warsaw\, Poland
URL:https://sportplan.vercel.app/no/events/ironman-70-3-warsaw-2026-06-07
END:VEVENT
END:VCALENDAR
