BEGIN:VCALENDAR
VERSION:2.0
PRODID:-//SportPlan//Event Calendar//EN
CALSCALE:GREGORIAN
BEGIN:VEVENT
UID:0b9c6387-8030-46f5-9784-54f774ef66f4@sportplan.local
DTSTAMP:20260424T230703Z
DTSTART;VALUE=DATE:20261121
DTEND;VALUE=DATE:20261122
SUMMARY:IRONMAN 70.3 Langkawi
DESCRIPTION:Race through IRONMAN 70.3 Langkawi's tropical paradise with coastal roads\, charming villages\, and lush forests. Enjoy a scenic\, challenging course and warm local hospitality.
LOCATION:Langkawi\, Malaysia
URL:https://sportplan.vercel.app/no/events/ironman-70-3-langkawi-2026-11-21
END:VEVENT
END:VCALENDAR
