BEGIN:VCALENDAR
VERSION:2.0
PRODID:-//SportPlan//Event Calendar//EN
CALSCALE:GREGORIAN
BEGIN:VEVENT
UID:50f8807b-04ee-44ff-a05c-bb0180d90a81@sportplan.local
DTSTAMP:20260425T023632Z
DTSTART;VALUE=DATE:20261122
DTEND;VALUE=DATE:20261123
SUMMARY:Ironman 70.3 Bangsaen 2026
DESCRIPTION:Official IRONMAN event pages list IRONMAN 70.3 Bangsaen in Thailand as the 22 November 2026 edition\, with race-week information\, course pages\, and athlete registration navigation published on the organizer-owned site.
LOCATION:Bangsaen\, Chonburi
URL:https://sportplan.vercel.app/no/events/ironman-70-3-bangsaen-2026-bangsaen-2026-11-22
END:VEVENT
END:VCALENDAR
