BEGIN:VCALENDAR
VERSION:2.0
PRODID:-//SportPlan//Event Calendar//EN
CALSCALE:GREGORIAN
BEGIN:VEVENT
UID:840f59f4-f3e9-45c2-ad2e-5805af4a9dec@sportplan.local
DTSTAMP:20260424T230956Z
DTSTART;VALUE=DATE:20260517
DTEND;VALUE=DATE:20260518
SUMMARY:III Duatlo Cross da Raia Ibérica
DESCRIPTION:Official Federação de Triatlo de Portugal event page for the 2026 III Duatlo Cross da Raia Ibérica. The federation calendar lists one future 2026 edition on 17 May 2026\, and the published regulation places the event around Malhada Sorda\; imported conservatively as one canonical amateur-enterable duathlon event row from the official federation calendar.
LOCATION:Malhada Sorda\, Almeida\, Guarda\, Portugal
URL:https://sportplan.vercel.app/no/events/iii-duatlo-cross-da-raia-iberica-2026-05-17
END:VEVENT
END:VCALENDAR
