BEGIN:VCALENDAR
VERSION:2.0
PRODID:-//SportPlan//Event Calendar//EN
CALSCALE:GREGORIAN
BEGIN:VEVENT
UID:8c5e9d80-1e8a-4f51-86c4-a85f1526fd42@sportplan.local
DTSTAMP:20260425T022750Z
DTSTART;VALUE=DATE:20260508
DTEND;VALUE=DATE:20260509
SUMMARY:The ICONIC Run Fest 2026 – Run Mukdahan
DESCRIPTION:Official Thai.Run event page lists The ICONIC Run Fest 2026 – Run Mukdahan in Mukdahan on 2026-05-08. Public registration is handled on the linked Thai.Run registration page.
LOCATION:Mukdahan
URL:https://sportplan.vercel.app/no/events/iconicrun2026-2026-05-08
END:VEVENT
END:VCALENDAR
