BEGIN:VCALENDAR
VERSION:2.0
PRODID:-//SportPlan//Event Calendar//EN
CALSCALE:GREGORIAN
BEGIN:VEVENT
UID:db40f7d7-ee3f-410b-b0b4-d65ca08c2933@sportplan.local
DTSTAMP:20260424T230828Z
DTSTART;VALUE=DATE:20260530
DTEND;VALUE=DATE:20260601
SUMMARY:HYROX Youngstars Berlin 2026
DESCRIPTION:HYROX Youngstars Berlin 2026 is listed on the official HYROX event page for 30–31 May 2026 in Berlin\, Germany. The organizer-owned page confirms the Youngstars weekend and provides the official event artwork and athlete information.
LOCATION:Berlin\, Berlin
URL:https://sportplan.vercel.app/no/events/hyrox-youngstars-berlin-2026-berlin-2026-05-30
END:VEVENT
END:VCALENDAR
