BEGIN:VCALENDAR
VERSION:2.0
PRODID:-//SportPlan//Event Calendar//EN
CALSCALE:GREGORIAN
BEGIN:VEVENT
UID:7b8feeb9-d050-4e21-8916-d6e6a5f077e4@sportplan.local
DTSTAMP:20260424T230827Z
DTSTART;VALUE=DATE:20260906
DTEND;VALUE=DATE:20260907
SUMMARY:Grit & Grind Trail Race: Camp Fortune Edition
DESCRIPTION:Official Run Ottawa trail-race event on 6 September 2026. The official page states the Camp Fortune edition takes place at Camp Fortune in Gatineau Park and publishes the 2026 race artwork.
LOCATION:Camp Fortune\, Gatineau Park\, Quebec\, Canada
URL:https://sportplan.vercel.app/no/events/grit-grind-trail-race-camp-fortune-edition-2026-09-06
END:VEVENT
END:VCALENDAR
