BEGIN:VCALENDAR
VERSION:2.0
PRODID:-//SportPlan//Event Calendar//EN
CALSCALE:GREGORIAN
BEGIN:VEVENT
UID:68853bf9-09ae-4c2d-b0fd-dd53ff7bd5c7@sportplan.local
DTSTAMP:20260424T202214Z
DTSTART;VALUE=DATE:20260425
DTEND;VALUE=DATE:20260426
SUMMARY:Gravel Salamanca 360 2026
DESCRIPTION:
LOCATION:Salamanca
URL:https://sportplan.vercel.app/no/events/gravel-salamanca-360-2026-salamanca-20260425
END:VEVENT
END:VCALENDAR
