BEGIN:VCALENDAR
VERSION:2.0
PRODID:-//SportPlan//Event Calendar//EN
CALSCALE:GREGORIAN
BEGIN:VEVENT
UID:4566005f-3b9b-4e01-afe9-d02aab342dcc@sportplan.local
DTSTAMP:20260424T231326Z
DTSTART;VALUE=DATE:20260502
DTEND;VALUE=DATE:20260503
SUMMARY:GRAN FONDO TRABOCCHI MAIELLA
DESCRIPTION:FCI detail page 179552 lists Amatoriale\, non-competitive raduno cicloturistico\, categorie ammesse 'Amatori'\, with 80 km and 60 km routes. Exact-title and official-URL Supabase checks returned no matches.
LOCATION:Fossacesia Marina (CH)
URL:https://sportplan.vercel.app/no/events/gran-fondo-trabocchi-maiella-fossacesia-marina-2026-05-02
END:VEVENT
END:VCALENDAR
