BEGIN:VCALENDAR
VERSION:2.0
PRODID:-//SportPlan//Event Calendar//EN
CALSCALE:GREGORIAN
BEGIN:VEVENT
UID:0cd1e0ff-140e-4f99-983f-0862c41bd6ba@sportplan.local
DTSTAMP:20260425T004214Z
DTSTART;VALUE=DATE:20260705
DTEND;VALUE=DATE:20260706
SUMMARY:Gold Coast Marathon 2026
DESCRIPTION:Run in paradise at the 46th ASICS Gold Coast Marathon to be held 4 - 5 July 2026 on the beautiful Gold Coast in Queensland\, Australia.
LOCATION:Gold Coast\, Queensland
URL:https://sportplan.vercel.app/no/events/gold-coast-marathon-2026-gold-coast-2026-07-05
END:VEVENT
END:VCALENDAR
