BEGIN:VCALENDAR
VERSION:2.0
PRODID:-//SportPlan//Event Calendar//EN
CALSCALE:GREGORIAN
BEGIN:VEVENT
UID:245e0701-fbe8-4fb6-89e7-20e9ad07586e@sportplan.local
DTSTAMP:20260424T230544Z
DTSTART;VALUE=DATE:20260906
DTEND;VALUE=DATE:20260907
SUMMARY:Estonian 10km Road Running Championships
DESCRIPTION:discovered via official World Athletics calendar filter (country=Estonia\, discipline=Road Running)\; underseeded Baltic coverage expansion
LOCATION:Pärnu (EST)
URL:https://sportplan.vercel.app/no/events/estonian-10km-road-running-championships-2026-09-06
END:VEVENT
END:VCALENDAR
