BEGIN:VCALENDAR
VERSION:2.0
PRODID:-//SportPlan//Event Calendar//EN
CALSCALE:GREGORIAN
BEGIN:VEVENT
UID:f859ba6c-6396-40a6-9a23-de1fc661e517@sportplan.local
DTSTAMP:20260425T004422Z
DTSTART;VALUE=DATE:20260912
DTEND;VALUE=DATE:20260913
SUMMARY:Duatlon Spišská Nová Ves 2026
DESCRIPTION:Official Slovak Triathlon Union 2026 calendar page 2 lists Duatlon Spišská Nová Ves\, 12. ročník\, on 12 September 2026 with Slovak youth championship and short-duathlon championship status.
LOCATION:Spišská Nová Ves\, Slovakia
URL:https://sportplan.vercel.app/no/events/duatlon-spisska-nova-ves-2026-spisska-nova-ves-2026-09-12
END:VEVENT
END:VCALENDAR
