BEGIN:VCALENDAR
VERSION:2.0
PRODID:-//SportPlan//Event Calendar//EN
CALSCALE:GREGORIAN
BEGIN:VEVENT
UID:e36dc7d9-a354-48e8-9e9e-406ffc7767bd@sportplan.local
DTSTAMP:20260425T004717Z
DTSTART;VALUE=DATE:20261004
DTEND;VALUE=DATE:20261005
SUMMARY:Duatlo de Oliveira do Hospital
DESCRIPTION:Official Federação de Triatlo de Portugal event page for Duatlo de Oliveira do Hospital. The federation calendar publishes the 2026-10-04 event in Oliveira do Hospital\, supporting conservative inclusion as an official amateur-enterable duathlon entry.
LOCATION:Oliveira do Hospital\, Coimbra\, Portugal
URL:https://sportplan.vercel.app/no/events/duatlo-de-oliveira-do-hospital-oliveira-do-hospital-coimbra-portugal-2026-10-04
END:VEVENT
END:VCALENDAR
