BEGIN:VCALENDAR
VERSION:2.0
PRODID:-//SportPlan//Event Calendar//EN
CALSCALE:GREGORIAN
BEGIN:VEVENT
UID:60efa3d2-6459-418c-9e1d-ee50d239bc66@sportplan.local
DTSTAMP:20260425T004716Z
DTSTART;VALUE=DATE:20261011
DTEND;VALUE=DATE:20261012
SUMMARY:Duatlo Cross de Salvaterra de Magos
DESCRIPTION:Official Federação de Triatlo de Portugal event page for Duatlo Cross de Salvaterra de Magos. The federation calendar publishes the 2026-10-11 event in Salvaterra de Magos\, supporting conservative inclusion as an official amateur-enterable duathlon entry.
LOCATION:Salvaterra de Magos\, Santarém\, Portugal
URL:https://sportplan.vercel.app/no/events/duatlo-cross-de-salvaterra-de-magos-salvaterra-de-magos-santarem-portugal-2026-10-11
END:VEVENT
END:VCALENDAR
