BEGIN:VCALENDAR
VERSION:2.0
PRODID:-//SportPlan//Event Calendar//EN
CALSCALE:GREGORIAN
BEGIN:VEVENT
UID:6412ae3f-d65d-4efc-9588-bc2101348781@sportplan.local
DTSTAMP:20260424T230828Z
DTSTART;VALUE=DATE:20260425
DTEND;VALUE=DATE:20260426
SUMMARY:Duathl'anim
DESCRIPTION:Official FFTRI/T2Area fiche lists Duathl'anim in VERNOUX-EN-VIVARAIS on 2026-04-25 for amateur participants.
LOCATION:Vernoux-en-Vivarais
URL:https://sportplan.vercel.app/no/events/duathl-anim-vernoux-en-vivarais-2026-04-25
END:VEVENT
END:VCALENDAR
