BEGIN:VCALENDAR
VERSION:2.0
PRODID:-//SportPlan//Event Calendar//EN
CALSCALE:GREGORIAN
BEGIN:VEVENT
UID:b15b32a8-9c91-46a7-92d0-d2d9cf1d4647@sportplan.local
DTSTAMP:20260424T231019Z
DTSTART;VALUE=DATE:20260518
DTEND;VALUE=DATE:20260519
SUMMARY:Cursa de la Cervesa
DESCRIPTION:Cursa de la Cervesa se celebrará el 18 mayo 2026 en Sant Miquel de Balenyà\, Barcelona\, Cataluña. Con una distancia de 10 km\, propone un recorrido exigente pero accesible para quienes buscan un buen reto. Ideal para quienes quieren marcarse un objetivo de temporada y vivir una jornada bien organizada en un entorno especial.
LOCATION:Sant Miquel de Balenyà\, Barcelona\, Cataluña
URL:https://sportplan.vercel.app/no/events/cursa-de-la-cervesa-sant-miquel-de-balenya-2026-05-18-10k
END:VEVENT
END:VCALENDAR
