BEGIN:VCALENDAR
VERSION:2.0
PRODID:-//SportPlan//Event Calendar//EN
CALSCALE:GREGORIAN
BEGIN:VEVENT
UID:6b0c2404-e646-4062-964f-ed0250a3bce2@sportplan.local
DTSTAMP:20260424T230222Z
DTSTART;VALUE=DATE:20260425
DTEND;VALUE=DATE:20260426
SUMMARY:Course Nature de Landéhen
DESCRIPTION:Course Nature de Landéhen a lieu le 25 de avril de 2026 à Landéhen. C'est un rendez-vous intéressant pour les participants à la recherche d'un événement bien organisé dans un cadre agréable. Consultez les informations officielles de l'organisateur pour les horaires\, le retrait des dossards et les détails logistiques.
LOCATION:Landéhen
URL:https://sportplan.vercel.app/no/events/course-nature-de-landehen-landehen-2026-04-25
END:VEVENT
END:VCALENDAR
