BEGIN:VCALENDAR
VERSION:2.0
PRODID:-//SportPlan//Event Calendar//EN
CALSCALE:GREGORIAN
BEGIN:VEVENT
UID:70f34b8b-125a-4654-9181-96a2e475a4e2@sportplan.local
DTSTAMP:20260424T230255Z
DTSTART;VALUE=DATE:20260425
DTEND;VALUE=DATE:20260426
SUMMARY:Courir et Marcher à Peynier
DESCRIPTION:Courir et Marcher à Peynier a lieu le 25 de avril de 2026 à Peynier. C'est un rendez-vous intéressant pour les participants à la recherche d'un événement bien organisé dans un cadre agréable. Le parcours couvre environ 18 km. Consultez les informations officielles de l'organisateur pour les horaires\, le retrait des dossards et les détails logistiques.
LOCATION:Peynier
URL:https://sportplan.vercel.app/no/events/courir-et-marcher-a-peynier-peynier-2026-04-25
END:VEVENT
END:VCALENDAR
