BEGIN:VCALENDAR
VERSION:2.0
PRODID:-//SportPlan//Event Calendar//EN
CALSCALE:GREGORIAN
BEGIN:VEVENT
UID:2fde2e7e-3b4a-4c9d-be4b-70925d60b332@sportplan.local
DTSTAMP:20260424T201732Z
DTSTART;VALUE=DATE:20260118
DTEND;VALUE=DATE:20260119
SUMMARY:Championnat National de Cross 2026
DESCRIPTION:Official FRMA 2025-2026 national competition calendar lists on 18 Janvier 2026: 'CH. NAT. CROSS' with category 'TOUTES' and location text 'AZILAL / BENI MELLAL'. Federation calendar used as canonical source family. Held as medium-confidence amateur-enterable because it is a federation championship\, but the calendar marks all categories rather than elite-only selection.
LOCATION:Azilal
URL:https://sportplan.vercel.app/no/events/championnat-national-de-cross-2026-2026-01-18
END:VEVENT
END:VCALENDAR
