BEGIN:VCALENDAR
VERSION:2.0
PRODID:-//SportPlan//Event Calendar//EN
CALSCALE:GREGORIAN
BEGIN:VEVENT
UID:c7f473d1-5ed4-4678-8022-c3b692b05a03@sportplan.local
DTSTAMP:20260424T230713Z
DTSTART;VALUE=DATE:20260510
DTEND;VALUE=DATE:20260511
SUMMARY:Challenge Wānaka Multi - Challenge Family
DESCRIPTION:The Challenge Wānaka Multisport event is an exhilarating off-road adventure set against the stunning backdrop of Wānaka’s rugged terrain.
LOCATION:Lake Wānaka\, New Zealand
URL:https://sportplan.vercel.app/no/events/challenge-wanaka-multi-challenge-family-2026-05-10
END:VEVENT
END:VCALENDAR
