BEGIN:VCALENDAR
VERSION:2.0
PRODID:-//SportPlan//Event Calendar//EN
CALSCALE:GREGORIAN
BEGIN:VEVENT
UID:73176b48-0dac-4432-9ce5-2163bcc42fcb@sportplan.local
DTSTAMP:20260424T201605Z
DTSTART;VALUE=DATE:20260215
DTEND;VALUE=DATE:20260216
SUMMARY:Carrera del Ebro
DESCRIPTION:Carrera del Ebro is an official Brigada Aragón I event in Zaragoza featuring amateur-enterable Trail 13K\, Trail 25K and Andada 13K options. The official site highlights the distinctive experience of racing near military equipment and through areas that are usually closed to the public.
LOCATION:Zaragoza\, Unknown
URL:https://sportplan.vercel.app/no/events/carrera-del-ebro-zaragoza-2026-02-15
END:VEVENT
END:VCALENDAR
