BEGIN:VCALENDAR
VERSION:2.0
PRODID:-//SportPlan//Event Calendar//EN
CALSCALE:GREGORIAN
BEGIN:VEVENT
UID:1ec1a0ac-cef3-48d6-9149-7ce3eee7ae10@sportplan.local
DTSTAMP:20260425T003214Z
DTSTART;VALUE=DATE:20260510
DTEND;VALUE=DATE:20260511
SUMMARY:Camida Clonmel Triathlon 2026
DESCRIPTION:Triathlon Ireland's official race card lists the Camida Clonmel Triathlon on 10 May 2026 in Clonmel\, County Tipperary. The adult sprint-distance race uses a 750 m swim\, 20 km bike\, and 5 km run\, is part of the National Series\, and links to the organizer's official event page plus federation-managed entry.
LOCATION:Clonmel
URL:https://sportplan.vercel.app/no/events/camida-clonmel-triathlon-2026-05-10
END:VEVENT
END:VCALENDAR
