BEGIN:VCALENDAR
VERSION:2.0
PRODID:-//SportPlan//Event Calendar//EN
CALSCALE:GREGORIAN
BEGIN:VEVENT
UID:0d924098-c5bb-4398-ac48-5160f2925004@sportplan.local
DTSTAMP:20260424T202513Z
DTSTART;VALUE=DATE:20260301
DTEND;VALUE=DATE:20260302
SUMMARY:Brama Stage Run - Brama80k
DESCRIPTION:Brama Stage Run is presented on the official brama.run site as a three-stage trail-running event along the Costa Brava\, with participant options including Brama60k\, Brama80k\, and Brama100k under the same seaside stage-race weekend.
LOCATION:Ribes de Freser\, Girona\, Cataluña
URL:https://sportplan.vercel.app/no/events/brama-stage-run-brama80k-ribes-de-freser-2026-03-01-80k
END:VEVENT
END:VCALENDAR
