BEGIN:VCALENDAR
VERSION:2.0
PRODID:-//SportPlan//Event Calendar//EN
CALSCALE:GREGORIAN
BEGIN:VEVENT
UID:e35a2879-fc90-4a76-b4e4-d21416fe9b9e@sportplan.local
DTSTAMP:20260424T202513Z
DTSTART;VALUE=DATE:20260425
DTEND;VALUE=DATE:20260426
SUMMARY:Bkt Trapagaran 2026 — Marcha 10K 10K
DESCRIPTION:The official Bizkaia Kopa Trail Trapagaran page lists the Trapagaran round on 25 April 2026 in Valle de Trápaga-Trapagaran\, and the linked RockTheSport page is the live participant registration entry for the event. This row represents the 10K marcha option within the official BKT Trapagaran programme.
LOCATION:Valle de Trápaga-Trapagaran
URL:https://sportplan.vercel.app/no/events/bkt-trapagaran-2026-marcha-10k-10k-valle-de-trapaga-trapagaran-2026-04-25
END:VEVENT
END:VCALENDAR
