BEGIN:VCALENDAR
VERSION:2.0
PRODID:-//SportPlan//Event Calendar//EN
CALSCALE:GREGORIAN
BEGIN:VEVENT
UID:65c5e2ab-36a4-4c26-afc5-e9b4d6f2d201@sportplan.local
DTSTAMP:20260424T201707Z
DTSTART;VALUE=DATE:20260517
DTEND;VALUE=DATE:20260518
SUMMARY:Bay To Breakers 12K San Francisco 2026
DESCRIPTION:Bay to Breakers 12K San Francisco 2026 uses the official baytobreakers.com race site as its participant-facing source. The official homepage confirms the 12K mass-participation event for 17 May 2026 in San Francisco and exposes the current race hero image.
LOCATION:San Francisco\, California
URL:https://sportplan.vercel.app/no/events/bay-to-breakers-12k-san-francisco-2026-san-francisco-2026-05-17
END:VEVENT
END:VCALENDAR
