BEGIN:VCALENDAR
VERSION:2.0
PRODID:-//SportPlan//Event Calendar//EN
CALSCALE:GREGORIAN
BEGIN:VEVENT
UID:3818ee20-e496-49f7-a960-108cb82e91a7@sportplan.local
DTSTAMP:20260424T213748Z
DTSTART;VALUE=DATE:20260315
DTEND;VALUE=DATE:20260316
SUMMARY:Balkan Championship Duathlon Plantaže Tuzi 2026
DESCRIPTION:Balkan Championship Duathlon Plantaže Tuzi 2026 is an official amateur duathlon in Tuzi\, Montenegro on 15 March 2026. The Montenegro Triathlon Federation's adopted 2026 championship article states that the Plantaže Tuzi race is both the national championship sprint duathlon and the Balkan Championship\, organized by TK Podgorica.
LOCATION:Plantaže Tuzi
URL:https://sportplan.vercel.app/no/events/balkan-championship-duathlon-plantaze-tuzi-2026-03-15
END:VEVENT
END:VCALENDAR
