BEGIN:VCALENDAR
VERSION:2.0
PRODID:-//SportPlan//Event Calendar//EN
CALSCALE:GREGORIAN
BEGIN:VEVENT
UID:eecf27a7-1d7c-484c-9670-e96239aa267a@sportplan.local
DTSTAMP:20260424T200844Z
DTSTART;VALUE=DATE:20260111
DTEND;VALUE=DATE:20260112
SUMMARY:Attard 10K
DESCRIPTION:Attard 10K is a public amateur road-running race in Attard\, Malta\, scheduled for 11 January 2026 and listed on the official Athletics Malta 2026 Road Running Calendar.
LOCATION:Attard\, Malta
URL:https://sportplan.vercel.app/no/events/attard-10k-attard-2026-01-11
END:VEVENT
END:VCALENDAR
