BEGIN:VCALENDAR
VERSION:2.0
PRODID:-//SportPlan//Event Calendar//EN
CALSCALE:GREGORIAN
BEGIN:VEVENT
UID:7bb18190-a6fd-4bad-bbfe-3936998a0a55@sportplan.local
DTSTAMP:20260424T231146Z
DTSTART;VALUE=DATE:20261213
DTEND;VALUE=DATE:20261214
SUMMARY:ASPEN-KLIPPA Penang Bridge International Marathon @ Penang 2nd Bridge 2026
DESCRIPTION:ASPEN-KLIPPA Penang Bridge International Marathon @ Penang 2nd Bridge 2026 is shown on the official Penang marathon registration flow for 13 December 2026. The official site and register page present this as the 2026 Penang Bridge mass-participation marathon event.
LOCATION:Penang 2nd Bridge\, Penang\, Malaysia
URL:https://sportplan.vercel.app/no/events/aspen-klippa-penang-bridge-international-marathon-penang-2nd-bridge-2026-12-13
END:VEVENT
END:VCALENDAR
