BEGIN:VCALENDAR
VERSION:2.0
PRODID:-//SportPlan//Event Calendar//EN
CALSCALE:GREGORIAN
BEGIN:VEVENT
UID:465706c5-5ec8-4b94-a34a-b0a6fc08aa3f@sportplan.local
DTSTAMP:20260424T213734Z
DTSTART;VALUE=DATE:20260517
DTEND;VALUE=DATE:20260518
SUMMARY:Aquathlon de Cormoranche sur Saône (01)
DESCRIPTION:Official FFTRI/T2Area fiche lists Aquathlon de Cormoranche sur Saône (01) in CORMORANCHE-SUR-SAÔNE on 2026-05-17 with Jeunes 1\, Jeunes 2\, XS Jeunes\, S Jeunes\, XS\, S formats listed on the official federation fiche.
LOCATION:CORMORANCHE-SUR-SAÔNE\, Auvergne-Rhône-Alpes
URL:https://sportplan.vercel.app/no/events/aquathlon-de-cormoranche-sur-saone-01-cormoranche-sur-saone-2026-05-17
END:VEVENT
END:VCALENDAR
