BEGIN:VCALENDAR
VERSION:2.0
PRODID:-//SportPlan//Event Calendar//EN
CALSCALE:GREGORIAN
BEGIN:VEVENT
UID:7350d1d2-c898-4989-baf8-8390d2235f76@sportplan.local
DTSTAMP:20260424T230046Z
DTSTART;VALUE=DATE:20260614
DTEND;VALUE=DATE:20260615
SUMMARY:Antony Matiangi ITT
DESCRIPTION:The official Kenya Cycling Race Series event page lists Antony Matiangi ITT for 14 June 2026 in Limuru\, Kenya as an amateur-enterable time-trial event.
LOCATION:Limuru
URL:https://sportplan.vercel.app/no/events/antony-matiangi-itt-limuru-2026-06-14
END:VEVENT
END:VCALENDAR
