BEGIN:VCALENDAR
VERSION:2.0
PRODID:-//SportPlan//Event Calendar//EN
CALSCALE:GREGORIAN
BEGIN:VEVENT
UID:3b262ed4-4722-4a08-9aec-3af3aa82d4a7@sportplan.local
DTSTAMP:20260424T230829Z
DTSTART;VALUE=DATE:20260701
DTEND;VALUE=DATE:20260702
SUMMARY:Anfibios Trail de Anna
DESCRIPTION:Anfibios Trail de Anna se celebrará el 1 de julio de 2026 en ANNA\, València\, Comunidad Valenciana. Es una buena cita para participantes que buscan una experiencia deportiva bien organizada y un ambiente motivador. El recorrido cubre aproximadamente 9 km. Consulta la información oficial del evento para conocer horarios\, recorridos y detalles logísticos.
LOCATION:ANNA\, València\, Comunidad Valenciana
URL:https://sportplan.vercel.app/no/events/anfibios-trail-de-anna-anna-2026-07-01-9k
END:VEVENT
END:VCALENDAR
