BEGIN:VCALENDAR
VERSION:2.0
PRODID:-//SportPlan//Event Calendar//EN
CALSCALE:GREGORIAN
BEGIN:VEVENT
UID:0908bf25-6cc5-4135-8d00-f41df0abf09a@sportplan.local
DTSTAMP:20260424T223252Z
DTSTART;VALUE=DATE:20260210
DTEND;VALUE=DATE:20260211
SUMMARY:Andalucía Bike Race Almería
DESCRIPTION:Andalucía Bike Race Almería is part of the official Andalucía Bike Race 2026 stage race. The organizer-owned Andalucía Bike Race site is the canonical participant-facing source for the 2026 route\, regulations\, accommodation\, results\, and registration flow for the Almería-hosted edition.
LOCATION:Almería
URL:https://sportplan.vercel.app/no/events/andaluc-a-bike-race-almer-a-almer-a-2026-02-10
END:VEVENT
END:VCALENDAR
