BEGIN:VCALENDAR
VERSION:2.0
PRODID:-//SportPlan//Event Calendar//EN
CALSCALE:GREGORIAN
BEGIN:VEVENT
UID:6dc835b9-f183-487e-b2b8-f6db90eca530@sportplan.local
DTSTAMP:20260424T213847Z
DTSTART;VALUE=DATE:20260502
DTEND;VALUE=DATE:20260503
SUMMARY:ABBINATA XCP - BIKE MARATHON GARDA TRENTINO 2026
DESCRIPTION:FCI detail page 181102 lists the companion XCP point-to-point race\, open to juniors\, all masters M/F\, and EPS convenzionati FCI. Exact-title and official-URL Supabase checks returned no matches.
LOCATION:Riva del Garda (TN)
URL:https://sportplan.vercel.app/no/events/abbinata-xcp-bike-marathon-garda-trentino-2026-riva-del-garda-2026-05-02
END:VEVENT
END:VCALENDAR
