BEGIN:VCALENDAR
VERSION:2.0
PRODID:-//SportPlan//Event Calendar//EN
CALSCALE:GREGORIAN
BEGIN:VEVENT
UID:8141068b-4ecf-41d1-9f33-05c79cc8c444@sportplan.local
DTSTAMP:20260424T202118Z
DTSTART;VALUE=DATE:20260425
DTEND;VALUE=DATE:20260426
SUMMARY:6h du Mont Glonne 2026 — Courses Enfants
DESCRIPTION:6h du Mont Glonne 2026 — Courses Enfants a lieu à Saint-Florent-le-Vieil le 25 avril 2026. C’est un rendez-vous parfait pour profiter d’une belle journée de course\, avec une belle ambiance de course et un parcours adapté à différents profils de coureurs. Que vous visiez la performance ou une expérience plus conviviale\, l’événement promet une ambiance motivante du début à la fin.
LOCATION:Saint-Florent-le-Vieil
URL:https://sportplan.vercel.app/no/events/6h-du-mont-glonne-2026-courses-enfants-saint-florent-le-vieil-2026-04-25
END:VEVENT
END:VCALENDAR
