BEGIN:VCALENDAR
VERSION:2.0
PRODID:-//SportPlan//Event Calendar//EN
CALSCALE:GREGORIAN
BEGIN:VEVENT
UID:5f2d4537-7566-4e37-a08a-920c81d9a13e@sportplan.local
DTSTAMP:20260424T230954Z
DTSTART;VALUE=DATE:20260509
DTEND;VALUE=DATE:20260511
SUMMARY:24 Horas a Correr Mem Martins - Sintra
DESCRIPTION:Official Zumub 24h Run Mem Martins - Sintra resistance race site for 9-10 May 2026\, with 24h\, 12h\, 3h and night marathon formats in Mem Martins - Sintra.
LOCATION:Algueirão - Mem Martins
URL:https://sportplan.vercel.app/no/events/24-horas-a-correr-mem-martins-sintra-algueirao-mem-martins-2026-05-09
END:VEVENT
END:VCALENDAR
