BEGIN:VCALENDAR
VERSION:2.0
PRODID:-//SportPlan//Event Calendar//EN
CALSCALE:GREGORIAN
BEGIN:VEVENT
UID:ff237da6-60e3-451e-8e78-9733e1ba18f1@sportplan.local
DTSTAMP:20260425T023740Z
DTSTART;VALUE=DATE:20260628
DTEND;VALUE=DATE:20260629
SUMMARY:2026 Victorian Duathlon Series – Race 1 – Calder Park Thunderdome
DESCRIPTION:AusTriathlon lists the opening 2026 Victorian Duathlon Series race at Calder Park Thunderdome with adult and kids duathlon formats. The event page links to Triathlon Victoria's official race page.
LOCATION:Calder Park Thunderdome\, Calder Park
URL:https://sportplan.vercel.app/no/events/2026-victorian-duathlon-series-race-1-calder-park-thunderdome-calder-park-thunderdome-calder-park-2026-06-28
END:VEVENT
END:VCALENDAR
