BEGIN:VCALENDAR
VERSION:2.0
PRODID:-//SportPlan//Event Calendar//EN
CALSCALE:GREGORIAN
BEGIN:VEVENT
UID:616d0317-3857-4523-a491-c62abfe9ce6c@sportplan.local
DTSTAMP:20260424T202035Z
DTSTART;VALUE=DATE:20260109
DTEND;VALUE=DATE:20260112
SUMMARY:2026 North Island Colgate Games
DESCRIPTION:The 2026 North Island Colgate Games are scheduled for 9 to 11 January 2026 at Tauranga Domain in Tauranga. The official Athletics New Zealand event page says entry is open to any child aged 7 to 14 who is a member of an affiliated athletics club\, making it a clearly amateur-enterable national junior athletics festival.
LOCATION:Tauranga Domain\, Tauranga
URL:https://sportplan.vercel.app/no/events/2026-north-island-colgate-games-tauranga-2026-01-09
END:VEVENT
END:VCALENDAR
