BEGIN:VCALENDAR
VERSION:2.0
PRODID:-//SportPlan//Event Calendar//EN
CALSCALE:GREGORIAN
BEGIN:VEVENT
UID:a82d389c-38e1-48ad-a5e6-99494b9cc22b@sportplan.local
DTSTAMP:20260425T023457Z
DTSTART;VALUE=DATE:20260811
DTEND;VALUE=DATE:20260812
SUMMARY:12 August Half Marathon Bangkok 2026
DESCRIPTION:Official Thai.Run registration page for 12 August Half Marathon Bangkok 2026.
LOCATION:Bangkok\, Bangkok
URL:https://sportplan.vercel.app/no/events/12-august-half-marathon-bangkok-2026-bangkok-2026-08-11
END:VEVENT
END:VCALENDAR
