BEGIN:VCALENDAR
VERSION:2.0
PRODID:-//SportPlan//Event Calendar//EN
CALSCALE:GREGORIAN
BEGIN:VEVENT
UID:40c1bd90-208c-47f4-9f0f-af23553244a0@sportplan.local
DTSTAMP:20260421T175639Z
DTSTART;VALUE=DATE:20260215
DTEND;VALUE=DATE:20260216
SUMMARY:Zurich Maratón de Sevilla 2026
DESCRIPTION:Official Zurich Maratón de Sevilla website for the 2026 Seville marathon. The organizer presents it as the main amateur-enterable road marathon in Seville with event information\, registration\, and athlete services on the canonical race site.
LOCATION:Sevilla\, Sevilla
URL:https://sportplan.vercel.app/ja/events/zurich-marat-n-de-sevilla-2026-sevilla-2026-02-15
END:VEVENT
END:VCALENDAR
