BEGIN:VCALENDAR
VERSION:2.0
PRODID:-//SportPlan//Event Calendar//EN
CALSCALE:GREGORIAN
BEGIN:VEVENT
UID:9b6db62c-56ba-44d4-9832-a1fd6da31326@sportplan.local
DTSTAMP:20260421T191304Z
DTSTART;VALUE=DATE:20260317
DTEND;VALUE=DATE:20260318
SUMMARY:XIV Marcha Ciclodeportiva Ruta de los Castillos de Ayora
DESCRIPTION:
LOCATION:Ayora\, Valencia\, Valencia
URL:https://sportplan.vercel.app/ja/events/xiv-marcha-ciclodeportiva-ruta-de-los-castillos-de-ayora-ayora-2026-03-17-130k
END:VEVENT
END:VCALENDAR
