BEGIN:VCALENDAR
VERSION:2.0
PRODID:-//SportPlan//Event Calendar//EN
CALSCALE:GREGORIAN
BEGIN:VEVENT
UID:7bc73707-ffe2-42db-ad99-56a0c3b5372d@sportplan.local
DTSTAMP:20260421T173819Z
DTSTART;VALUE=DATE:20260503
DTEND;VALUE=DATE:20260504
SUMMARY:XIII Half Triatlón de Sevilla
DESCRIPTION:XIII Half Triatlón de Sevilla is the official half-distance triathlon in Sevilla\, Spain on 3 May 2026. The official RockTheSport event page confirms an 08:00 start in Sevilla\, open registration through 27 April 2026\, and organizer-backed athlete information for this amateur-enterable race.
LOCATION:Sevilla
URL:https://sportplan.vercel.app/ja/events/xiii-half-triatlon-de-sevilla
END:VEVENT
END:VCALENDAR
