BEGIN:VCALENDAR
VERSION:2.0
PRODID:-//SportPlan//Event Calendar//EN
CALSCALE:GREGORIAN
BEGIN:VEVENT
UID:2b0a397e-0a72-4f77-8bab-e9880bba0a29@sportplan.local
DTSTAMP:20260421T191543Z
DTSTART;VALUE=DATE:20260322
DTEND;VALUE=DATE:20260323
SUMMARY:XI Vuelta Pedestre a la Zubia &quot\;CORRE por el PARKINSON&quot\; — Inscripción de SUB18 a Master
DESCRIPTION:
LOCATION:Zubia (La)
URL:https://sportplan.vercel.app/ja/events/xi-vuelta-pedestre-a-la-zubia-quot-corre-por-el-parkinson-quot-inscripcion-de-sub18-a-master-zubia-la-2026-03-22
END:VEVENT
END:VCALENDAR
